BEGIN:VCALENDAR
VERSION:2.0
PRODID:-//juiceboxinteractive//NONSGML Events //EN
X-WR-CALNAME:Johns Creek - Events
X-WR-CALDESC:Johns Creek - Events
CALSCALE:GREGORIAN
TZID:America/New_York
BEGIN:VEVENT
UID:event-19905@johnscreekga.gov
DTSTART:20260507T230000Z
DTEND:20260507T230000Z
DTSTAMP:20260421T213034Z
SUMMARY:Zoning Public Participation Meeting - CANCELLED
DESCRIPTION:
LOCATION:CIty Hall<br />
11360 Lakefield Drive<br />
Johns Creek, GA 30097
END:VEVENT
END:VCALENDAR