BEGIN:VCALENDAR
VERSION:2.0
PRODID:-//juiceboxinteractive//NONSGML Events //EN
X-WR-CALNAME:Johns Creek - Events
X-WR-CALDESC:Johns Creek - Events
CALSCALE:GREGORIAN
TZID:America/New_York
BEGIN:VEVENT
UID:event-19816@johnscreekga.gov
DTSTART:20260424T230000Z
DTEND:20260424T230000Z
DTSTAMP:20260409T204254Z
SUMMARY:Friday Fun Night: Open Mic at The Art Center
DESCRIPTION:
LOCATION:The Art Center<br />
6290 Abbotts Bridge Road<br />
Johns Creek, GA 30097
END:VEVENT
END:VCALENDAR