BEGIN:VCALENDAR
VERSION:2.0
PRODID:-//juiceboxinteractive//NONSGML Events //EN
X-WR-CALNAME:Johns Creek - Events
X-WR-CALDESC:Johns Creek - Events
CALSCALE:GREGORIAN
TZID:America/New_York
BEGIN:VEVENT
UID:event-19795@johnscreekga.gov
DTSTART:20260425T150000Z
DTEND:20260425T200000Z
DTSTAMP:20260406T213916Z
SUMMARY:Earth Day Artist Swap
DESCRIPTION:
LOCATION:The Art Center Annex<br />
6290 Abbotts Bridge Road Suite 606 <br />
Johns Creek, GA 30097<br />

END:VEVENT
END:VCALENDAR