BEGIN:VCALENDAR
VERSION:2.0
PRODID:-//juiceboxinteractive//NONSGML Events //EN
X-WR-CALNAME:Johns Creek - Events
X-WR-CALDESC:Johns Creek - Events
CALSCALE:GREGORIAN
TZID:America/New_York
BEGIN:VEVENT
UID:event-19791@johnscreekga.gov
DTSTART:20260425T180000Z
DTEND:20260425T180000Z
DTSTAMP:20260406T213058Z
SUMMARY:CYT Atlanta Presents: Disneyʼs Newsies!
DESCRIPTION:
LOCATION:Valor Christian Academy<br />
4755 Kimball Bridge Rd
END:VEVENT
END:VCALENDAR