BEGIN:VCALENDAR
VERSION:2.0
PRODID:-//juiceboxinteractive//NONSGML Events //EN
X-WR-CALNAME:Johns Creek - Events
X-WR-CALDESC:Johns Creek - Events
CALSCALE:GREGORIAN
TZID:America/New_York
BEGIN:VEVENT
UID:event-19784@johnscreekga.gov
DTSTART:20260425T230000Z
DTEND:20260426T010000Z
DTSTAMP:20260406T205328Z
SUMMARY:The Wizard of Oz: A Concert Experience 
DESCRIPTION:
LOCATION:Johns Creek United Methodist Church<br />
11180 Medlock Bridge Road <br />
Johns Creek, GA 30097<br />

END:VEVENT
END:VCALENDAR