BEGIN:VCALENDAR
VERSION:2.0
PRODID:-//juiceboxinteractive//NONSGML Events //EN
X-WR-CALNAME:Johns Creek - Events
X-WR-CALDESC:Johns Creek - Events
CALSCALE:GREGORIAN
TZID:America/New_York
BEGIN:VEVENT
UID:event-19783@johnscreekga.gov
DTSTART:20260421T193000Z
DTEND:20260421T203000Z
DTSTAMP:20260406T204716Z
SUMMARY:Gyotaku Workshop for Kids 
DESCRIPTION:
LOCATION:Northeast Spruill Oaks Library<br />
9560 Spruill Rd<br />
Johns Creek, Georgia 30022<br />
<br />

END:VEVENT
END:VCALENDAR