BEGIN:VCALENDAR
VERSION:2.0
PRODID:-//juiceboxinteractive//NONSGML Events //EN
X-WR-CALNAME:Johns Creek - Events
X-WR-CALDESC:Johns Creek - Events
CALSCALE:GREGORIAN
TZID:America/New_York
BEGIN:VEVENT
UID:event-19421@johnscreekga.gov
DTSTART:20260923T140000Z
DTEND:20260923T180000Z
DTSTAMP:20260223T214106Z
SUMMARY:Climb Aboard the Mobile Career Bus!
DESCRIPTION:
LOCATION:
END:VEVENT
END:VCALENDAR