BEGIN:VCALENDAR
VERSION:2.0
PRODID:-//juiceboxinteractive//NONSGML Events //EN
X-WR-CALNAME:Johns Creek - Events
X-WR-CALDESC:Johns Creek - Events
CALSCALE:GREGORIAN
TZID:America/New_York
BEGIN:VEVENT
UID:event-17166@johnscreekga.gov
DTSTART:20251215T233000Z
DTEND:20251216T004500Z
DTSTAMP:20250812T121001Z
SUMMARY:Toastmaster's Gavel Club
DESCRIPTION:
LOCATION:Northeast/Spruill Oaks Library
END:VEVENT
END:VCALENDAR