BEGIN:VCALENDAR
VERSION:2.0
PRODID:-//juiceboxinteractive//NONSGML Events //EN
X-WR-CALNAME:Johns Creek - Events
X-WR-CALDESC:Johns Creek - Events
CALSCALE:GREGORIAN
TZID:America/New_York
BEGIN:VEVENT
UID:event-17088@johnscreekga.gov
DTSTART:20251001T220000Z
DTEND:20251001T220000Z
DTSTAMP:20250811T111625Z
SUMMARY:Performing Arts Center Bond Referendum Community Meeting
DESCRIPTION:
LOCATION:Park Place<br />
3125 Old Alabama Road<br />
Johns Creek, GA 30022
END:VEVENT
END:VCALENDAR