BEGIN:VCALENDAR
VERSION:2.0
PRODID:-//juiceboxinteractive//NONSGML Events //EN
X-WR-CALNAME:Johns Creek - Events
X-WR-CALDESC:Johns Creek - Events
CALSCALE:GREGORIAN
TZID:America/New_York
BEGIN:VEVENT
UID:event-16938@johnscreekga.gov
DTSTART:20250820T143000Z
DTEND:20250820T190000Z
DTSTAMP:20250721T142953Z
SUMMARY:Ask a Social Worker
DESCRIPTION:
LOCATION:Ocee Library<br />
5090 Abbotts Bridge Road<br />
Johns Creek, GA 30005<br />

END:VEVENT
END:VCALENDAR