BEGIN:VCALENDAR
VERSION:2.0
PRODID:-//juiceboxinteractive//NONSGML Events //EN
X-WR-CALNAME:Johns Creek - Events
X-WR-CALDESC:Johns Creek - Events
CALSCALE:GREGORIAN
TZID:America/New_York
BEGIN:VEVENT
UID:event-16327@johnscreekga.gov
DTSTART:20250820T220000Z
DTEND:20250820T230000Z
DTSTAMP:20250630T140824Z
SUMMARY:Free Outdoor Fitness - Zumba
DESCRIPTION:
LOCATION:Mark Burkhalter Amphitheater at Newtown Park, 3150 Old Alabama Road
END:VEVENT
END:VCALENDAR