BEGIN:VCALENDAR
VERSION:2.0
PRODID:-//juiceboxinteractive//NONSGML Events //EN
X-WR-CALNAME:Johns Creek - Events
X-WR-CALDESC:Johns Creek - Events
CALSCALE:GREGORIAN
TZID:America/New_York
BEGIN:VEVENT
UID:event-13993@johnscreekga.gov
DTSTART:20241214T170000Z
DTEND:20241214T180000Z
DTSTAMP:20241115T153940Z
SUMMARY:Lunch with Santa
DESCRIPTION:
LOCATION:Park Place at Newtown Park<br />
3125 Old Alabama Road <br />
Johns Creek, GA 30022
END:VEVENT
END:VCALENDAR