BEGIN:VCALENDAR
VERSION:2.0
PRODID:-//juiceboxinteractive//NONSGML Events //EN
X-WR-CALNAME:Johns Creek - Events
X-WR-CALDESC:Johns Creek - Events
CALSCALE:GREGORIAN
TZID:America/New_York
BEGIN:VEVENT
UID:event-11794@johnscreekga.gov
DTSTART:20240605T150000Z
DTEND:20240605T160000Z
DTSTAMP:20240423T120635Z
SUMMARY:Adam Komesar and the Inflatable Zoo
DESCRIPTION:
LOCATION:Northeast Spruill Oaks Library<br />
9560 Spruill Road<br />
Johns Creek, GA 30022
END:VEVENT
END:VCALENDAR